BEGIN:VCALENDAR
VERSION:2.0
PRODID:-//Holmes Run Pool - ECPv6.5.1.4//NONSGML v1.0//EN
CALSCALE:GREGORIAN
METHOD:PUBLISH
X-WR-CALNAME:Holmes Run Pool
X-ORIGINAL-URL:https://www.holmesrunpool.org
X-WR-CALDESC:Events for Holmes Run Pool
REFRESH-INTERVAL;VALUE=DURATION:PT1H
X-Robots-Tag:noindex
X-PUBLISHED-TTL:PT1H
BEGIN:VTIMEZONE
TZID:America/New_York
BEGIN:DAYLIGHT
TZOFFSETFROM:-0500
TZOFFSETTO:-0400
TZNAME:EDT
DTSTART:20190310T070000
END:DAYLIGHT
BEGIN:STANDARD
TZOFFSETFROM:-0400
TZOFFSETTO:-0500
TZNAME:EST
DTSTART:20191103T060000
END:STANDARD
BEGIN:DAYLIGHT
TZOFFSETFROM:-0500
TZOFFSETTO:-0400
TZNAME:EDT
DTSTART:20200308T070000
END:DAYLIGHT
BEGIN:STANDARD
TZOFFSETFROM:-0400
TZOFFSETTO:-0500
TZNAME:EST
DTSTART:20201101T060000
END:STANDARD
BEGIN:DAYLIGHT
TZOFFSETFROM:-0500
TZOFFSETTO:-0400
TZNAME:EDT
DTSTART:20210314T070000
END:DAYLIGHT
BEGIN:STANDARD
TZOFFSETFROM:-0400
TZOFFSETTO:-0500
TZNAME:EST
DTSTART:20211107T060000
END:STANDARD
END:VTIMEZONE
BEGIN:VEVENT
DTSTART;TZID=America/New_York:20210622T160000
DTEND;TZID=America/New_York:20210622T200000
DTSTAMP:20260423T124305
CREATED:20210616T173808Z
LAST-MODIFIED:20210622T193139Z
UID:10000057-1624377600-1624392000@www.holmesrunpool.org
SUMMARY:Food Truck: Crêpes Parfait
DESCRIPTION:Food Trucks are back! Come down to the pool and help yourself to some crêpes. Crêpes Parfait serves authentic French gourmet crêpes both in the savory and the sweet variety\, a selection of homemade drinks along with French dishes packaged ready to reheat at home. They use only all natural wholesome ingredients. \nSavory and Sweet Crêpe Menu | Dishes to Reheat at Home
URL:https://www.holmesrunpool.org/event/food-truck-2021-06-16/
CATEGORIES:Food Truck
ATTACH;FMTTYPE=image/jpeg:https://www.holmesrunpool.org/wp-content/uploads/2021/06/CrepesParfait.jpg
END:VEVENT
BEGIN:VEVENT
DTSTART;TZID=America/New_York:20190907T150000
DTEND;TZID=America/New_York:20190907T180000
DTSTAMP:20260423T124305
CREATED:20190224T022857Z
LAST-MODIFIED:20190512T040238Z
UID:10000094-1567868400-1567879200@www.holmesrunpool.org
SUMMARY:Festival Food Truck
DESCRIPTION:
URL:https://www.holmesrunpool.org/event/festival-food-truck/
CATEGORIES:Food Truck
ATTACH;FMTTYPE=image/jpeg:https://www.holmesrunpool.org/wp-content/uploads/2019/02/food-truck.jpg
END:VEVENT
BEGIN:VEVENT
DTSTART;TZID=America/New_York:20190731T173000
DTEND;TZID=America/New_York:20190731T200000
DTSTAMP:20260423T124305
CREATED:20190224T022351Z
LAST-MODIFIED:20190731T172500Z
UID:10000110-1564594200-1564603200@www.holmesrunpool.org
SUMMARY:Food Truck: Tokyo in the City (Japanese and Korean)
DESCRIPTION:Tokyo In The City serves Japanese and Korean Bento Boxes featuring sushi\, shrimp tempura\, soft shelled crab\, salmon teriyaki\, beef bulgogi\, dumplings\, seaweed salad\, and miso soup\,
URL:https://www.holmesrunpool.org/event/food-truck-2019-07-30/
CATEGORIES:Food Truck
ATTACH;FMTTYPE=image/jpeg:https://www.holmesrunpool.org/wp-content/uploads/2019/05/TokyoInTheCity.jpg
END:VEVENT
BEGIN:VEVENT
DTSTART;TZID=America/New_York:20190723T173000
DTEND;TZID=America/New_York:20190723T200000
DTSTAMP:20260423T124305
CREATED:20190224T022351Z
LAST-MODIFIED:20190512T194827Z
UID:10000109-1563903000-1563912000@www.holmesrunpool.org
SUMMARY:Food Truck: KT Wood Fired Pizza
DESCRIPTION:KT is a food truck fitted with a traditional\, wood burning brick oven. We serve Neapolitan inspired wood fired pizzas using only the freshest ingredients to craft our delicious pies. \nMENU\nON AVERAGE WE RUN ABOUT 12 PIZZAS. WE ALSO RUN SPECIALS DAILY. OCCASIONALLY WE DO SELL OUT OF CERTAIN PIZZAS SO IT’S BEST TO CHECK MENU WHEN AT THE TRUCK. \nSHUT YOUR PIEHOLE: spicy italian sausage\, pepperoni\, mushrooms \n“BIG DADDY” ROTH: pepperoni\, mushrooms\, kalamata olives\, red onion \nFENNEL SAUSAGE: spicy italian sausage\, shaved fennel\, fire roasted red peppers \nWHITE: mozzarella\, ricotta\, shaved fennel\, mushrooms\, garlic \nCHICKEN PESTO: roasted chicken\, housemade basil pesto\, fire roasted red peppers \nMARGHARITA: bufulo di mozzarella\, basil\, san marzano tomato sauce \nPIETASTER: prosciutto\, arugula\, cherry tomatoes\, garlic \nPOPEYE: pancetta\, spinach \nCHERRY BOMB: cherry tomatoes\, red pepper flake \nPESTO: housemade basil pesto\, cherry tomatoes \nPEPPERONI: pepperoni\, mozzarella \nCHEESE: fresh mozzarella\, tomato sauce \n 
URL:https://www.holmesrunpool.org/event/food-truck-2019-07-23/
CATEGORIES:Food Truck
ATTACH;FMTTYPE=image/jpeg:https://www.holmesrunpool.org/wp-content/uploads/2019/05/KTPizza.jpg
END:VEVENT
BEGIN:VEVENT
DTSTART;TZID=America/New_York:20190716T173000
DTEND;TZID=America/New_York:20190716T200000
DTSTAMP:20260423T124305
CREATED:20190224T022351Z
LAST-MODIFIED:20190512T194749Z
UID:10000134-1563298200-1563307200@www.holmesrunpool.org
SUMMARY:Food Truck: Astro Chicken & Doughnuts
DESCRIPTION:Astro Chicken & Doughnuts serves classic and modern interpretations of two distinctly different\, yet equally comforting all-American classics – doughnuts and fried chicken. \nMENU\nDOUGHNUTS\nVanilla \nMaple Bacon \nCreme Brulee \nPBJ \nCherry Cheesecake \nChocolate Nuetella \nLemon Matcha \nStrawberries & Cream \nCHICKEN\nFried Chicken Fingers \nFried Chicken Sandwich \nFried Chicken BLT Sandwich \nTater Tots
URL:https://www.holmesrunpool.org/event/food-truck-2019-07-16/
CATEGORIES:Food Truck
ATTACH;FMTTYPE=image/jpeg:https://www.holmesrunpool.org/wp-content/uploads/2019/05/AstroDonutsandFriedChicken.jpg
END:VEVENT
BEGIN:VEVENT
DTSTART;TZID=America/New_York:20190709T173000
DTEND;TZID=America/New_York:20190709T200000
DTSTAMP:20260423T124305
CREATED:20190224T022351Z
LAST-MODIFIED:20190512T194706Z
UID:10000133-1562693400-1562702400@www.holmesrunpool.org
SUMMARY:Food Truck: Roro's Modern Lebanese
DESCRIPTION:Serving fresh and hearty Lebanese cuisine with a modern twist. Roro’s serves Lebanese street food items like rice platters\, wraps\, and handmade pita bread tacos! Offering Halal chicken shawarma\, Halal flank steak shawarma\, Vegan/Gf falafel\, fresh salad\, oven baked pita chips and the family recipe hummus!
URL:https://www.holmesrunpool.org/event/food-truck-2019-07-09/
CATEGORIES:Food Truck
ATTACH;FMTTYPE=image/jpeg:https://www.holmesrunpool.org/wp-content/uploads/2019/05/RorosLebanese.jpg
END:VEVENT
BEGIN:VEVENT
DTSTART;TZID=America/New_York:20190702T173000
DTEND;TZID=America/New_York:20190702T200000
DTSTAMP:20260423T124305
CREATED:20190224T022351Z
LAST-MODIFIED:20190512T194554Z
UID:10000132-1562088600-1562097600@www.holmesrunpool.org
SUMMARY:Food Truck: Holy Crepes
DESCRIPTION:Holy Crepes Food Truck is a Gourmet food truck that serves delicious Crepes! Sweet and Savory divine flavors that melt in your mouth. \nMenu items and prices are subject to change. \nMENU\nSWEET CREPES\, $6\nLemon & Sugar \nCinnamon & Sugar \nNutella\, Banana or Strawberry \nNutella\, Banana\, & Strawberry \nWhite Chocolate & Strawberry \nNutella\, Strawberry\, & Walnut \nNutella\, Banana\, & Coconut \nPeanut Butter\, Banana\, & Coconut \nPeanut Butter\, Banana\, & Chocolate \nHoly Smores \nApple & Cinnamon Sugar \nHoney\, Walnut\, & Lemon \nCaramel & Banana \nSAVORY CREPES\nHam & Guyere Cheese\, $8 \nVeggie\, $8 – Spinach\, mushroom\, feta\, & tomato with pesto aioli \nCaprese\, $8 – Arugula\, tomato\, & fresh mozzarella with pesto aioli \nThe Bacon\, $9 – Bacon\, mushrooms\, mozzarella\, & tomato with pesto aioli \nTurkey Club\, $9 – Bacon\, fresh tomato\, & mozzarella with pesto aioli \nGrilled Chicken\, $9 – Spinach\, chicken\, mushrooms\, & feta cheese with pesto aioli \n  \n 
URL:https://www.holmesrunpool.org/event/food-truck-2019-07-02/
CATEGORIES:Food Truck
ATTACH;FMTTYPE=image/jpeg:https://www.holmesrunpool.org/wp-content/uploads/2019/05/HolyCrepes.jpg
END:VEVENT
BEGIN:VEVENT
DTSTART;TZID=America/New_York:20190625T173000
DTEND;TZID=America/New_York:20190625T200000
DTSTAMP:20260423T124305
CREATED:20190224T022351Z
LAST-MODIFIED:20190625T150223Z
UID:10000093-1561483800-1561492800@www.holmesrunpool.org
SUMMARY:Food Truck: Blue City (Indian)
DESCRIPTION:The Blue City daily food truck menu is inspired by the delicious street foods of India. Take a bite of a savory samosa or Chef Neeraj Moondra’s mom’s famous crusty kachori and you’ll experience an explosion of flavors that is impossible to describe in words.
URL:https://www.holmesrunpool.org/event/food-truck-2019-06-18/
CATEGORIES:Food Truck
ATTACH;FMTTYPE=image/jpeg:https://www.holmesrunpool.org/wp-content/uploads/2019/05/BlueCity.jpg
END:VEVENT
BEGIN:VEVENT
DTSTART;TZID=America/New_York:20190611T170000
DTEND;TZID=America/New_York:20190611T193000
DTSTAMP:20260423T124305
CREATED:20190224T022351Z
LAST-MODIFIED:20190512T181455Z
UID:10000145-1560272400-1560281400@www.holmesrunpool.org
SUMMARY:Food Truck: Saffron Gourmet (Persian)
DESCRIPTION:A culinary experience on wheels\, featuring Chef Sebastian Oveysi’s all organic cuisine\, including free-range meat & wild caught fish.
URL:https://www.holmesrunpool.org/event/food-truck-2019-06-11/
CATEGORIES:Food Truck
ATTACH;FMTTYPE=image/jpeg:https://www.holmesrunpool.org/wp-content/uploads/2019/05/SaffronGourmet.jpg
END:VEVENT
BEGIN:VEVENT
DTSTART;TZID=America/New_York:20190604T170000
DTEND;TZID=America/New_York:20190604T193000
DTSTAMP:20260423T124305
CREATED:20190224T022351Z
LAST-MODIFIED:20190512T182701Z
UID:10000142-1559667600-1559676600@www.holmesrunpool.org
SUMMARY:Food Truck: Peruvian Brothers
DESCRIPTION:With roots in Andean‐Spanish‐Afro‐Peruvian and Asian influences\, Comida Criolla boasts powerful flavors. Recipes passed down in the Lanzone family as well as Chef Mario’s own original spins on traditional Peruvian favorites give the menu an authentic taste with a unique twist. \nMenu items and prices are subject to change. \nMENU\nSANDWICHES (made with freshly baked bread)\nAsado\, $9 – Braised eye round beef\, caramelized onions\, fresh lettuce \nButifarra\, $9 – Slow-cooked pork loin\, green lettuce\, criolla sauce \nChicharron\, $9 – Salted pork tenderloin\, grilled sweet potato\, criolla sauce \nChoripan\, $8 – Peruvian chorizo\, seasonal mixed greens\, criolla sauce \nFish\, $10 – Baked fish fillet\, lettuce\, tomato\, criolla sa\,uce \nPollo\, $9 – Oven-baked chicken breast\, lettuce\, tomato\, criolla sauce \nTriple (vegetarian)\, $8 – Egg\, tomato\, avocado\, light mayo \nPLATTERS\nChicken\, $11 \nFish\, $12 \nBeef\, $11 \nPork Loin\, $11 \nChorizo\, $10 \nSIDES\nWild Rice\, $5 – Bacon\, walnuts\, raisins\, angel hair pasta \nQuinoa Salad\, $5 – Topped with avocado \nFried Plantains\, $4 – Slightly sweet \nMashed Potatoes\, $4 – Made from scratch \nMixed Green Salad\, $4 – With Balsamic Vinaigrette \nAdd Avocado\, $1
URL:https://www.holmesrunpool.org/event/food-truck-2019-06-04/
CATEGORIES:Food Truck
ATTACH;FMTTYPE=image/jpeg:https://www.holmesrunpool.org/wp-content/uploads/2019/05/PeruvianBrothers.jpg
END:VEVENT
BEGIN:VEVENT
DTSTART;TZID=America/New_York:20190528T170000
DTEND;TZID=America/New_York:20190528T193000
DTSTAMP:20260423T124305
CREATED:20190224T022351Z
LAST-MODIFIED:20190512T194241Z
UID:10000140-1559062800-1559071800@www.holmesrunpool.org
SUMMARY:Food Truck: Sloppy Mamas (Barbecue)
DESCRIPTION:From brisket to pulled pork classics\, enjoy a barbecue sandwich or platter from Sloppy Mamas! \nMenu items and prices are subject to change. \nMENU\nSANDWICHES\nPORK SANDWICH\, $10 \nBRISKET SANDWICH\, $10 \nCHICKEN SANDWICH\, $10 \nPLATES (INCLUDE 2 SIDES)\nPORK PLATE\, $15 \nBRISKET PLATE\, $15 \nCHICKEN PLATE\, $15 \nTWO MEAT PLATE\, $18 \nTHREE MEAT PLATE\, $20 \nSIDES\nBAKED BEANS\, $3 \nCOLE SLAW\, $3 \nPOTATO SALAD\, $3 \nPICKLES\, $2 \nCORN BREAD\, $2
URL:https://www.holmesrunpool.org/event/food-truck-2019-05-28/
CATEGORIES:Food Truck
ATTACH;FMTTYPE=image/jpeg:https://www.holmesrunpool.org/wp-content/uploads/2019/05/SloppyMamas.jpg
END:VEVENT
END:VCALENDAR