BEGIN:VCALENDAR
VERSION:2.0
PRODID:-//Holmes Run Pool - ECPv6.5.1.4//NONSGML v1.0//EN
CALSCALE:GREGORIAN
METHOD:PUBLISH
X-WR-CALNAME:Holmes Run Pool
X-ORIGINAL-URL:https://www.holmesrunpool.org
X-WR-CALDESC:Events for Holmes Run Pool
REFRESH-INTERVAL;VALUE=DURATION:PT1H
X-Robots-Tag:noindex
X-PUBLISHED-TTL:PT1H
BEGIN:VTIMEZONE
TZID:America/New_York
BEGIN:DAYLIGHT
TZOFFSETFROM:-0500
TZOFFSETTO:-0400
TZNAME:EDT
DTSTART:20190310T070000
END:DAYLIGHT
BEGIN:STANDARD
TZOFFSETFROM:-0400
TZOFFSETTO:-0500
TZNAME:EST
DTSTART:20191103T060000
END:STANDARD
END:VTIMEZONE
BEGIN:VEVENT
DTSTART;TZID=America/New_York:20190625T173000
DTEND;TZID=America/New_York:20190625T200000
DTSTAMP:20260419T144310
CREATED:20190224T022351Z
LAST-MODIFIED:20190625T150223Z
UID:10000093-1561483800-1561492800@www.holmesrunpool.org
SUMMARY:Food Truck: Blue City (Indian)
DESCRIPTION:The Blue City daily food truck menu is inspired by the delicious street foods of India. Take a bite of a savory samosa or Chef Neeraj Moondra’s mom’s famous crusty kachori and you’ll experience an explosion of flavors that is impossible to describe in words.
URL:https://www.holmesrunpool.org/event/food-truck-2019-06-18/
CATEGORIES:Food Truck
ATTACH;FMTTYPE=image/jpeg:https://www.holmesrunpool.org/wp-content/uploads/2019/05/BlueCity.jpg
END:VEVENT
BEGIN:VEVENT
DTSTART;TZID=America/New_York:20190616T150000
DTEND;TZID=America/New_York:20190616T170000
DTSTAMP:20260419T144310
CREATED:20190223T201056Z
LAST-MODIFIED:20190610T215735Z
UID:10000146-1560697200-1560704400@www.holmesrunpool.org
SUMMARY:Father's Day Beer Tasting (ADULT)
DESCRIPTION:What better way is there to celebrate Father’s Day than with a little beer tasting? Sample signature craft beers from a local brewing company. \nFeaturing beer from: \nCaboose Brewing Company\n\nThe Fog IPA – New England Style IPA\, Fruity Hop Character\, Juicy Mouthfeel\, Citrus Notes\, Hazy\nWasser Bohemian Pilsner – Bohemian Pilsner\, Light Bodied\, Effervescent\, Floral Notes\, Crisp & Clean Finish\nVienna\, VA Lager – Gold Medal Virginia Craft Brewers Cup 2017\, Traditional Vienna Style Lager\, Medium Body\, Crisp Finish\, Well Balanced\nBoxcar Brown Ale – Gold Medal Virginia Craft Brewers Cup 2016\, American Brown Ale\, Robust\, Hints of Rich Chocolate\, Dark Fruit Notes\, Smooth Finish\n\nThe tasting is $10 per person. \nWant to taste for free? Sign up to help! We are a volunteer organization so all social events are made possible by the grace of fellow pool members. We welcome any help! \nPlease enable JavaScript in your browser to complete this form.Name *FirstLastEmail *I can help with... *Setting up at 2 pmServing beer from 3 pm to 4 pmServing beer from 4 pm to 5 pmTransitioning to steak night at 5 pmKeg expertiseI know how to tap a keg!Can't say I've ever tapped a keg but I do know how to serve from a tap!What's a keg? I serve my beer from a pitcherCommentSubmit
URL:https://www.holmesrunpool.org/event/fathers-day-beer-tasting/
CATEGORIES:Special Event
ATTACH;FMTTYPE=image/jpeg:https://www.holmesrunpool.org/wp-content/uploads/2019/02/beer-tasting-1.jpg
END:VEVENT
BEGIN:VEVENT
DTSTART;TZID=America/New_York:20190611T170000
DTEND;TZID=America/New_York:20190611T193000
DTSTAMP:20260419T144310
CREATED:20190224T022351Z
LAST-MODIFIED:20190512T181455Z
UID:10000145-1560272400-1560281400@www.holmesrunpool.org
SUMMARY:Food Truck: Saffron Gourmet (Persian)
DESCRIPTION:A culinary experience on wheels\, featuring Chef Sebastian Oveysi’s all organic cuisine\, including free-range meat & wild caught fish.
URL:https://www.holmesrunpool.org/event/food-truck-2019-06-11/
CATEGORIES:Food Truck
ATTACH;FMTTYPE=image/jpeg:https://www.holmesrunpool.org/wp-content/uploads/2019/05/SaffronGourmet.jpg
END:VEVENT
BEGIN:VEVENT
DTSTART;TZID=America/New_York:20190604T170000
DTEND;TZID=America/New_York:20190604T193000
DTSTAMP:20260419T144310
CREATED:20190224T022351Z
LAST-MODIFIED:20190512T182701Z
UID:10000142-1559667600-1559676600@www.holmesrunpool.org
SUMMARY:Food Truck: Peruvian Brothers
DESCRIPTION:With roots in Andean‐Spanish‐Afro‐Peruvian and Asian influences\, Comida Criolla boasts powerful flavors. Recipes passed down in the Lanzone family as well as Chef Mario’s own original spins on traditional Peruvian favorites give the menu an authentic taste with a unique twist. \nMenu items and prices are subject to change. \nMENU\nSANDWICHES (made with freshly baked bread)\nAsado\, $9 – Braised eye round beef\, caramelized onions\, fresh lettuce \nButifarra\, $9 – Slow-cooked pork loin\, green lettuce\, criolla sauce \nChicharron\, $9 – Salted pork tenderloin\, grilled sweet potato\, criolla sauce \nChoripan\, $8 – Peruvian chorizo\, seasonal mixed greens\, criolla sauce \nFish\, $10 – Baked fish fillet\, lettuce\, tomato\, criolla sa\,uce \nPollo\, $9 – Oven-baked chicken breast\, lettuce\, tomato\, criolla sauce \nTriple (vegetarian)\, $8 – Egg\, tomato\, avocado\, light mayo \nPLATTERS\nChicken\, $11 \nFish\, $12 \nBeef\, $11 \nPork Loin\, $11 \nChorizo\, $10 \nSIDES\nWild Rice\, $5 – Bacon\, walnuts\, raisins\, angel hair pasta \nQuinoa Salad\, $5 – Topped with avocado \nFried Plantains\, $4 – Slightly sweet \nMashed Potatoes\, $4 – Made from scratch \nMixed Green Salad\, $4 – With Balsamic Vinaigrette \nAdd Avocado\, $1
URL:https://www.holmesrunpool.org/event/food-truck-2019-06-04/
CATEGORIES:Food Truck
ATTACH;FMTTYPE=image/jpeg:https://www.holmesrunpool.org/wp-content/uploads/2019/05/PeruvianBrothers.jpg
END:VEVENT
BEGIN:VEVENT
DTSTART;TZID=America/New_York:20190528T170000
DTEND;TZID=America/New_York:20190528T193000
DTSTAMP:20260419T144310
CREATED:20190224T022351Z
LAST-MODIFIED:20190512T194241Z
UID:10000140-1559062800-1559071800@www.holmesrunpool.org
SUMMARY:Food Truck: Sloppy Mamas (Barbecue)
DESCRIPTION:From brisket to pulled pork classics\, enjoy a barbecue sandwich or platter from Sloppy Mamas! \nMenu items and prices are subject to change. \nMENU\nSANDWICHES\nPORK SANDWICH\, $10 \nBRISKET SANDWICH\, $10 \nCHICKEN SANDWICH\, $10 \nPLATES (INCLUDE 2 SIDES)\nPORK PLATE\, $15 \nBRISKET PLATE\, $15 \nCHICKEN PLATE\, $15 \nTWO MEAT PLATE\, $18 \nTHREE MEAT PLATE\, $20 \nSIDES\nBAKED BEANS\, $3 \nCOLE SLAW\, $3 \nPOTATO SALAD\, $3 \nPICKLES\, $2 \nCORN BREAD\, $2
URL:https://www.holmesrunpool.org/event/food-truck-2019-05-28/
CATEGORIES:Food Truck
ATTACH;FMTTYPE=image/jpeg:https://www.holmesrunpool.org/wp-content/uploads/2019/05/SloppyMamas.jpg
END:VEVENT
END:VCALENDAR