BEGIN:VCALENDAR
VERSION:2.0
PRODID:-//Holmes Run Pool - ECPv6.5.1.4//NONSGML v1.0//EN
CALSCALE:GREGORIAN
METHOD:PUBLISH
X-ORIGINAL-URL:https://www.holmesrunpool.org
X-WR-CALDESC:Events for Holmes Run Pool
REFRESH-INTERVAL;VALUE=DURATION:PT1H
X-Robots-Tag:noindex
X-PUBLISHED-TTL:PT1H
BEGIN:VTIMEZONE
TZID:America/New_York
BEGIN:DAYLIGHT
TZOFFSETFROM:-0500
TZOFFSETTO:-0400
TZNAME:EDT
DTSTART:20220313T070000
END:DAYLIGHT
BEGIN:STANDARD
TZOFFSETFROM:-0400
TZOFFSETTO:-0500
TZNAME:EST
DTSTART:20221106T060000
END:STANDARD
BEGIN:DAYLIGHT
TZOFFSETFROM:-0500
TZOFFSETTO:-0400
TZNAME:EDT
DTSTART:20230312T070000
END:DAYLIGHT
BEGIN:STANDARD
TZOFFSETFROM:-0400
TZOFFSETTO:-0500
TZNAME:EST
DTSTART:20231105T060000
END:STANDARD
BEGIN:DAYLIGHT
TZOFFSETFROM:-0500
TZOFFSETTO:-0400
TZNAME:EDT
DTSTART:20240310T070000
END:DAYLIGHT
BEGIN:STANDARD
TZOFFSETFROM:-0400
TZOFFSETTO:-0500
TZNAME:EST
DTSTART:20241103T060000
END:STANDARD
END:VTIMEZONE
BEGIN:VEVENT
DTSTART;TZID=America/New_York:20240710T181500
DTEND;TZID=America/New_York:20240710T191500
DTSTAMP:20260419T173601
CREATED:20240524T215430Z
LAST-MODIFIED:20240619T160710Z
UID:10000414-1720635300-1720638900@www.holmesrunpool.org
SUMMARY:Water Aerobics
DESCRIPTION:A midweek stretching and aerobic workout helps you get through the rest of your week relaxed and energized! Treat yourself to an hour of deep water aerobics with certified instructor Jill Arvanitis. Drop-in classes are $10 per class; $100 for 11. Pay by cash or check (attn. HRARA). No reservation required\, just join the group at the lower pool. Please arrive 15 minutes early so that you can be ready for class on time. All of the needed equipment is provided.
URL:https://www.holmesrunpool.org/event/water-aerobics-wednesday/2024-07-10/
LOCATION:Lower Pool
CATEGORIES:Water Aerobics
ATTACH;FMTTYPE=image/jpeg:https://www.holmesrunpool.org/wp-content/uploads/2019/02/water-aerobics.jpg
ORGANIZER;CN="Seena Polivy":MAILTO:seenabeth@cox.net
END:VEVENT
BEGIN:VEVENT
DTSTART;TZID=America/New_York:20240707T111500
DTEND;TZID=America/New_York:20240707T121500
DTSTAMP:20260419T173601
CREATED:20240524T193135Z
LAST-MODIFIED:20240619T155930Z
UID:10000401-1720350900-1720354500@www.holmesrunpool.org
SUMMARY:Water Aerobics
DESCRIPTION:Sunday classes are a wonderful way to end the weekend and begin the new week. Treat yourself to an hour of deep water aerobics with certified instructor Kara Bowling. Drop-in classes are $10 per class; $100 for 11. Pay by cash or check (attn. HRARA). No reservation required\, just join the group at the lower pool. Please arrive 15 minutes early so that you can be ready for class on time. All of the needed equipment is provided.
URL:https://www.holmesrunpool.org/event/water-aerobics-sunday/2024-07-07/
LOCATION:Lower Pool
CATEGORIES:Water Aerobics
ATTACH;FMTTYPE=image/jpeg:https://www.holmesrunpool.org/wp-content/uploads/2019/02/water-aerobics.jpg
ORGANIZER;CN="Seena Polivy":MAILTO:seenabeth@cox.net
END:VEVENT
BEGIN:VEVENT
DTSTART;TZID=America/New_York:20240704T140000
DTEND;TZID=America/New_York:20240704T160000
DTSTAMP:20260419T173601
CREATED:20230301T060009Z
LAST-MODIFIED:20240524T192114Z
UID:10000223-1720101600-1720108800@www.holmesrunpool.org
SUMMARY:Cake & Watermelon
DESCRIPTION:Celebrate America’s birthday with friends at the pool! Pack a lunch and picnic on the pool grounds and then stop by the Middle Deck from 2:00 pm to 4:00 pm for some cake and fresh watermelon.
URL:https://www.holmesrunpool.org/event/july-fourth-celebration/
LOCATION:Middle Deck
CATEGORIES:Social Event
ATTACH;FMTTYPE=image/jpeg:https://www.holmesrunpool.org/wp-content/uploads/2019/02/cake-and-watermelon.jpg
ORGANIZER;CN="Seena Polivy":MAILTO:seenabeth@cox.net
END:VEVENT
BEGIN:VEVENT
DTSTART;TZID=America/New_York:20240703T181500
DTEND;TZID=America/New_York:20240703T191500
DTSTAMP:20260419T173601
CREATED:20240524T215430Z
LAST-MODIFIED:20240619T160710Z
UID:10000413-1720030500-1720034100@www.holmesrunpool.org
SUMMARY:Water Aerobics
DESCRIPTION:A midweek stretching and aerobic workout helps you get through the rest of your week relaxed and energized! Treat yourself to an hour of deep water aerobics with certified instructor Jill Arvanitis. Drop-in classes are $10 per class; $100 for 11. Pay by cash or check (attn. HRARA). No reservation required\, just join the group at the lower pool. Please arrive 15 minutes early so that you can be ready for class on time. All of the needed equipment is provided.
URL:https://www.holmesrunpool.org/event/water-aerobics-wednesday/2024-07-03/
LOCATION:Lower Pool
CATEGORIES:Water Aerobics
ATTACH;FMTTYPE=image/jpeg:https://www.holmesrunpool.org/wp-content/uploads/2019/02/water-aerobics.jpg
ORGANIZER;CN="Seena Polivy":MAILTO:seenabeth@cox.net
END:VEVENT
BEGIN:VEVENT
DTSTART;TZID=America/New_York:20240630T111500
DTEND;TZID=America/New_York:20240630T121500
DTSTAMP:20260419T173601
CREATED:20240524T193135Z
LAST-MODIFIED:20240619T155930Z
UID:10000400-1719746100-1719749700@www.holmesrunpool.org
SUMMARY:Water Aerobics
DESCRIPTION:Sunday classes are a wonderful way to end the weekend and begin the new week. Treat yourself to an hour of deep water aerobics with certified instructor Kara Bowling. Drop-in classes are $10 per class; $100 for 11. Pay by cash or check (attn. HRARA). No reservation required\, just join the group at the lower pool. Please arrive 15 minutes early so that you can be ready for class on time. All of the needed equipment is provided.
URL:https://www.holmesrunpool.org/event/water-aerobics-sunday/2024-06-30/
LOCATION:Lower Pool
CATEGORIES:Water Aerobics
ATTACH;FMTTYPE=image/jpeg:https://www.holmesrunpool.org/wp-content/uploads/2019/02/water-aerobics.jpg
ORGANIZER;CN="Seena Polivy":MAILTO:seenabeth@cox.net
END:VEVENT
BEGIN:VEVENT
DTSTART;TZID=America/New_York:20240626T181500
DTEND;TZID=America/New_York:20240626T191500
DTSTAMP:20260419T173601
CREATED:20240524T215430Z
LAST-MODIFIED:20240619T160710Z
UID:10000412-1719425700-1719429300@www.holmesrunpool.org
SUMMARY:Water Aerobics
DESCRIPTION:A midweek stretching and aerobic workout helps you get through the rest of your week relaxed and energized! Treat yourself to an hour of deep water aerobics with certified instructor Jill Arvanitis. Drop-in classes are $10 per class; $100 for 11. Pay by cash or check (attn. HRARA). No reservation required\, just join the group at the lower pool. Please arrive 15 minutes early so that you can be ready for class on time. All of the needed equipment is provided.
URL:https://www.holmesrunpool.org/event/water-aerobics-wednesday/2024-06-26/
LOCATION:Lower Pool
CATEGORIES:Water Aerobics
ATTACH;FMTTYPE=image/jpeg:https://www.holmesrunpool.org/wp-content/uploads/2019/02/water-aerobics.jpg
ORGANIZER;CN="Seena Polivy":MAILTO:seenabeth@cox.net
END:VEVENT
BEGIN:VEVENT
DTSTART;TZID=America/New_York:20240623T111500
DTEND;TZID=America/New_York:20240623T121500
DTSTAMP:20260419T173601
CREATED:20240524T193135Z
LAST-MODIFIED:20240619T155930Z
UID:10000399-1719141300-1719144900@www.holmesrunpool.org
SUMMARY:Water Aerobics
DESCRIPTION:Sunday classes are a wonderful way to end the weekend and begin the new week. Treat yourself to an hour of deep water aerobics with certified instructor Kara Bowling. Drop-in classes are $10 per class; $100 for 11. Pay by cash or check (attn. HRARA). No reservation required\, just join the group at the lower pool. Please arrive 15 minutes early so that you can be ready for class on time. All of the needed equipment is provided.
URL:https://www.holmesrunpool.org/event/water-aerobics-sunday/2024-06-23/
LOCATION:Lower Pool
CATEGORIES:Water Aerobics
ATTACH;FMTTYPE=image/jpeg:https://www.holmesrunpool.org/wp-content/uploads/2019/02/water-aerobics.jpg
ORGANIZER;CN="Seena Polivy":MAILTO:seenabeth@cox.net
END:VEVENT
BEGIN:VEVENT
DTSTART;TZID=America/New_York:20240619T181500
DTEND;TZID=America/New_York:20240619T191500
DTSTAMP:20260419T173601
CREATED:20240524T215430Z
LAST-MODIFIED:20240619T160710Z
UID:10000411-1718820900-1718824500@www.holmesrunpool.org
SUMMARY:Water Aerobics
DESCRIPTION:A midweek stretching and aerobic workout helps you get through the rest of your week relaxed and energized! Treat yourself to an hour of deep water aerobics with certified instructor Jill Arvanitis. Drop-in classes are $10 per class; $100 for 11. Pay by cash or check (attn. HRARA). No reservation required\, just join the group at the lower pool. Please arrive 15 minutes early so that you can be ready for class on time. All of the needed equipment is provided.
URL:https://www.holmesrunpool.org/event/water-aerobics-wednesday/2024-06-19/
LOCATION:Lower Pool
CATEGORIES:Water Aerobics
ATTACH;FMTTYPE=image/jpeg:https://www.holmesrunpool.org/wp-content/uploads/2019/02/water-aerobics.jpg
ORGANIZER;CN="Seena Polivy":MAILTO:seenabeth@cox.net
END:VEVENT
BEGIN:VEVENT
DTSTART;TZID=America/New_York:20240616T173000
DTEND;TZID=America/New_York:20240616T193000
DTSTAMP:20260419T173601
CREATED:20240524T181938Z
LAST-MODIFIED:20240524T190619Z
UID:10000363-1718559000-1718566200@www.holmesrunpool.org
SUMMARY:Steak Night
DESCRIPTION:Bring something to throw on the grill (don’t forget your drinks\, plates\, and utensils). The pool will provide all the fixings plus simple sides. This is a great way to enjoy picnicking on the grounds with your friends and neighbors so please feel welcome to mingle and introduce yourselves to your fellow pool members (and maybe share a table!).
URL:https://www.holmesrunpool.org/event/steak-night/2024-06-16/
LOCATION:Picnic Grounds
CATEGORIES:Steak Night
ATTACH;FMTTYPE=image/jpeg:https://www.holmesrunpool.org/wp-content/uploads/2019/02/steak-night.jpg
ORGANIZER;CN="Seena Polivy":MAILTO:seenabeth@cox.net
END:VEVENT
BEGIN:VEVENT
DTSTART;TZID=America/New_York:20240616T111500
DTEND;TZID=America/New_York:20240616T121500
DTSTAMP:20260419T173601
CREATED:20240524T193135Z
LAST-MODIFIED:20240619T155930Z
UID:10000398-1718536500-1718540100@www.holmesrunpool.org
SUMMARY:Water Aerobics
DESCRIPTION:Sunday classes are a wonderful way to end the weekend and begin the new week. Treat yourself to an hour of deep water aerobics with certified instructor Kara Bowling. Drop-in classes are $10 per class; $100 for 11. Pay by cash or check (attn. HRARA). No reservation required\, just join the group at the lower pool. Please arrive 15 minutes early so that you can be ready for class on time. All of the needed equipment is provided.
URL:https://www.holmesrunpool.org/event/water-aerobics-sunday/2024-06-16/
LOCATION:Lower Pool
CATEGORIES:Water Aerobics
ATTACH;FMTTYPE=image/jpeg:https://www.holmesrunpool.org/wp-content/uploads/2019/02/water-aerobics.jpg
ORGANIZER;CN="Seena Polivy":MAILTO:seenabeth@cox.net
END:VEVENT
BEGIN:VEVENT
DTSTART;TZID=America/New_York:20240615T140000
DTEND;TZID=America/New_York:20240615T160000
DTSTAMP:20260419T173601
CREATED:20230301T060151Z
LAST-MODIFIED:20240611T020507Z
UID:10000015-1718460000-1718467200@www.holmesrunpool.org
SUMMARY:Ice Cream Social
DESCRIPTION:As summer heats up\, cool off with an ice cream sundae! Choose your favorite ice cream flavor and then top it off with whatever your heart desires. You will find all the classic toppings including chocolate syrup\, whipped cream\, sprinkles\, and cherries. Don’t forget to look around for your old swim buddies while you enjoy your frozen treat. \n 
URL:https://www.holmesrunpool.org/event/ice-cream-social/
LOCATION:Lower Deck
CATEGORIES:Social Event
ATTACH;FMTTYPE=image/jpeg:https://www.holmesrunpool.org/wp-content/uploads/2019/03/ice-cream-social.jpg
ORGANIZER;CN="Seena Polivy":MAILTO:seenabeth@cox.net
END:VEVENT
BEGIN:VEVENT
DTSTART;TZID=America/New_York:20240612T181500
DTEND;TZID=America/New_York:20240612T191500
DTSTAMP:20260419T173601
CREATED:20240524T215430Z
LAST-MODIFIED:20240619T160710Z
UID:10000380-1718216100-1718219700@www.holmesrunpool.org
SUMMARY:Water Aerobics
DESCRIPTION:A midweek stretching and aerobic workout helps you get through the rest of your week relaxed and energized! Treat yourself to an hour of deep water aerobics with certified instructor Jill Arvanitis. Drop-in classes are $10 per class; $100 for 11. Pay by cash or check (attn. HRARA). No reservation required\, just join the group at the lower pool. Please arrive 15 minutes early so that you can be ready for class on time. All of the needed equipment is provided.
URL:https://www.holmesrunpool.org/event/water-aerobics-wednesday/2024-06-12/
LOCATION:Lower Pool
CATEGORIES:Water Aerobics
ATTACH;FMTTYPE=image/jpeg:https://www.holmesrunpool.org/wp-content/uploads/2019/02/water-aerobics.jpg
ORGANIZER;CN="Seena Polivy":MAILTO:seenabeth@cox.net
END:VEVENT
BEGIN:VEVENT
DTSTART;TZID=America/New_York:20240609T111500
DTEND;TZID=America/New_York:20240609T121500
DTSTAMP:20260419T173601
CREATED:20240524T193135Z
LAST-MODIFIED:20240619T155930Z
UID:10000397-1717931700-1717935300@www.holmesrunpool.org
SUMMARY:Water Aerobics
DESCRIPTION:Sunday classes are a wonderful way to end the weekend and begin the new week. Treat yourself to an hour of deep water aerobics with certified instructor Kara Bowling. Drop-in classes are $10 per class; $100 for 11. Pay by cash or check (attn. HRARA). No reservation required\, just join the group at the lower pool. Please arrive 15 minutes early so that you can be ready for class on time. All of the needed equipment is provided.
URL:https://www.holmesrunpool.org/event/water-aerobics-sunday/2024-06-09/
LOCATION:Lower Pool
CATEGORIES:Water Aerobics
ATTACH;FMTTYPE=image/jpeg:https://www.holmesrunpool.org/wp-content/uploads/2019/02/water-aerobics.jpg
ORGANIZER;CN="Seena Polivy":MAILTO:seenabeth@cox.net
END:VEVENT
BEGIN:VEVENT
DTSTART;TZID=America/New_York:20240601T160000
DTEND;TZID=America/New_York:20240601T180000
DTSTAMP:20260419T173601
CREATED:20240524T160335Z
LAST-MODIFIED:20240524T162638Z
UID:10000358-1717257600-1717264800@www.holmesrunpool.org
SUMMARY:Stone Soup
DESCRIPTION:Children from littles to teens are invited to come listen to a reading of the classic story Stone Soup and then help make a pot of soup and enjoy a bowl among friends. Listen to the story; collect a stone and throw it into the pot; Bring an ingredient to contribute to the soup (any vegetable such as onion\, carrot\, celery\, potato\, parsley – whole\, raw\, unpeeled\, and uncut); Participate in an activity; and then come back and eat soup (Shhh!!! The children’s “soup” will magically turn into a finished soup lovingly prepared by Seena).
URL:https://www.holmesrunpool.org/event/stone-soup/
LOCATION:Middle Deck
CATEGORIES:Social Event
ATTACH;FMTTYPE=image/jpeg:https://www.holmesrunpool.org/wp-content/uploads/2024/05/stone-soup.jpg
ORGANIZER;CN="Seena Polivy":MAILTO:seenabeth@cox.net
END:VEVENT
BEGIN:VEVENT
DTSTART;TZID=America/New_York:20240526T180000
DTEND;TZID=America/New_York:20240526T200000
DTSTAMP:20260419T173601
CREATED:20240524T181938Z
LAST-MODIFIED:20240524T190619Z
UID:10000361-1716746400-1716753600@www.holmesrunpool.org
SUMMARY:Steak Night
DESCRIPTION:Bring something to throw on the grill (don’t forget your drinks\, plates\, and utensils). The pool will provide all the fixings plus simple sides. This is a great way to enjoy picnicking on the grounds with your friends and neighbors so please feel welcome to mingle and introduce yourselves to your fellow pool members (and maybe share a table!).
URL:https://www.holmesrunpool.org/event/steak-night/2024-05-26/
LOCATION:Picnic Grounds
CATEGORIES:Steak Night
ATTACH;FMTTYPE=image/jpeg:https://www.holmesrunpool.org/wp-content/uploads/2019/02/steak-night.jpg
ORGANIZER;CN="Seena Polivy":MAILTO:seenabeth@cox.net
END:VEVENT
BEGIN:VEVENT
DTSTART;TZID=America/New_York:20231021T170000
DTEND;TZID=America/New_York:20231021T210000
DTSTAMP:20260419T173601
CREATED:20230301T060033Z
LAST-MODIFIED:20240726T154857Z
UID:10000319-1697907600-1697922000@www.holmesrunpool.org
SUMMARY:Fall Party and Pig Roast
DESCRIPTION:(Rain Date: Sunday\, October 22)Swimming may be over for this year\, but there is still another chance to get together with your Holmes Run Pool friends at this festive gathering celebrating the Fall season. Don’t miss this favorite annual event. \nDinner features a slow roasted pig\, lovingly grilled on site all day by our own member chef Jim Wright with the assistance of Mark Sites\, accompanied by homemade vegetarian chili\, mac-n-cheese\, baked beans\, coleslaw\, and dessert. Apple cider and beer will be available. Feel welcome to BYO any other favorite beverages. \nKids are invited to hunt for and then decorate a mini-pumpkin that they can take home with them. There will also be marshmallows to roast! \nNEW THIS YEAR! Find a partner and participate in a three-legged race! \nNon-member friends are welcome. We hope you’ll join us! \n\n\n\nTickets are on sale until Oct 17.\nOur volunteer organizers appreciate when guests purchase their tickets earlier rather than later as it helps them better prepare for this event. \nEarly Bird Prices (until Fri\, Oct 13) \n\n$15 for adults\n$10 for children ages 2-12\nChildren under 2 are free\nAdult and teen volunteers are free\n\nLast Call Prices (after Fri\, Oct 13) \n\n$25 for adults\n$15 for children ages 2-12\nChildren under 2 are free\nAdult and teen volunteers are free\n\nVolunteers\nAttend for free when you sign up to volunteer. \n\n\nNote About the Weather\nAs with any outdoor party\, there is a chance that rain or storms will interrupt our event. Guests are welcome to bring popup canopies in case of rain. If there are storms\, we will follow our standard policy of closing the facility until 30 minutes past the last sound of thunder. While there are no refunds for weather interruptions or cancellations\, we will do everything we can to reopen and have a great evening\, even if storms happen. We will also have “to go boxes” to take home your fill of food if need be. \nNeed Help?\nUse the Contact Us form to contact the Webmaster if you are having difficulty logging into the website\, resetting your password\, or purchasing tickets OR the Activities Coordinator if you have a question about this event (timing\, menu\, volunteering\, etc…). \nSpecial thanks to our volunteer organizers and chefs\, Jim Wright\, Mark Sites\, Seena Polivy\, Barbara Foley\, and Laura Champe Mitchell!
URL:https://www.holmesrunpool.org/event/fall-party-and-pig-roast-2023/
LOCATION:Picnic Grounds
CATEGORIES:Special Event
ATTACH;FMTTYPE=image/jpeg:https://www.holmesrunpool.org/wp-content/uploads/2019/02/pig-roast.jpg
END:VEVENT
BEGIN:VEVENT
DTSTART;TZID=America/New_York:20230812T190000
DTEND;TZID=America/New_York:20230812T230000
DTSTAMP:20260419T173601
CREATED:20230301T060034Z
LAST-MODIFIED:20230811T143831Z
UID:10000322-1691866800-1691881200@www.holmesrunpool.org
SUMMARY:Midsummer Gala\, a Crab Feast Dinner and Dance (ADULT)
DESCRIPTION:Dance the night away\, swim by the light of the moon\, and feast on crabs\, shrimp\, chicken\, ribs\, sides\, dessert\, beer\, wine\, and more! This event is open to members and their guests. Attendees MUST be aged 21+. \nSpecial thanks to our volunteer organizer and chef\, Seena Polivy! \nNote About the Weather\nAs with any outdoor summer party\, there is a chance that rain or storms will interrupt our event. Guests are welcome to bring popup canopies in case of rain. If there are storms\, we will follow our standard policy of closing the facility until 30 minutes past the last sound of thunder. While there are no refunds for weather interruptions or cancellations\, we will do everything we can to reopen and have a great evening\, even if storms happen. We will also have “to go boxes” to take home your fill of food if need be. \nNote to the General Membership\nOn Saturday\, August 12 at 2 pm\, the picnic grounds\, grills\, playground\, and all picnic decks will close to the general membership in order to set up for the the Midsummer Gala. The pools and pool decks remain open within regular operating hours. \nNeed Help? \nIf you are having difficulty logging into the website\, resetting your password\, or purchasing your tickets\, contact the Webmaster on the Contact Us form. \nIf you have a question about this event (timing\, menu\, volunteering\, etc…) contact the Activities Coordinator on the Contact Us form.
URL:https://www.holmesrunpool.org/event/midsummer-gala-2023/
LOCATION:Picnic Grounds
CATEGORIES:Special Event
ATTACH;FMTTYPE=image/jpeg:https://www.holmesrunpool.org/wp-content/uploads/2019/02/gala-title.jpg
ORGANIZER;CN="Seena Polivy":MAILTO:seenabeth@cox.net
END:VEVENT
BEGIN:VEVENT
DTSTART;TZID=America/New_York:20230624T170000
DTEND;TZID=America/New_York:20230624T200000
DTSTAMP:20260419T173601
CREATED:20230301T050006Z
LAST-MODIFIED:20230623T145351Z
UID:10000079-1687626000-1687636800@www.holmesrunpool.org
SUMMARY:Taco Trivia Night
DESCRIPTION:Are you a fanatic for fun facts? Assemble your dream team and head down to the pool to show off those trivia skills. Questions will span a wide variety of categories: from Elvis to Olivia Rodrigue\, from Kahlo to Feynman\, from Patton to Zelenskyy\, and from the Scoville scale to the Richter scale so multigenerational teams whose players have wide interests may have an edge. If you don’t have a team\, come down anyway and we’ll do our best to match you with another partner or two. Trivia battle will start at 6 pm. Teams can be 2-4 players of any age (max on any team is 4). The Grand Prize winning team will win free tickets to the Fall Pig Roast. \nIt’s no fun playing on an empty stomach so\, of course\, tacos will be served!  We will offer a beef\, chicken and vegetarian taco bar with Mexican rice\, coleslaw\, plus all the toppings\, including Laura’s famous homemade guacamole. \nBuy your tickets NOW\nEarly Bird Price (ends TODAY): $5\nLast Call Price (tomorrow): $10 \nSpecial thanks to our volunteer organizers\, Gamemaster Laura Champe Mitchell and Chef Seena Polivy!
URL:https://www.holmesrunpool.org/event/taco-trivia-night-2023/
LOCATION:Middle Deck
CATEGORIES:Special Event
ATTACH;FMTTYPE=image/jpeg:https://www.holmesrunpool.org/wp-content/uploads/2022/06/taco-trivia-night.jpg
END:VEVENT
BEGIN:VEVENT
DTSTART;TZID=America/New_York:20220813T190000
DTEND;TZID=America/New_York:20220813T230000
DTSTAMP:20260419T173601
CREATED:20220618T221241Z
LAST-MODIFIED:20230811T165827Z
UID:10000227-1660417200-1660431600@www.holmesrunpool.org
SUMMARY:Midsummer Gala\, A Crab Feast Dinner and Dance (ADULT)
DESCRIPTION:Dance the night away\, swim by the light of the moon\, and feast on crabs\, shrimp\, chicken\, ribs\, sides\, dessert\, wine\, beer\, and more! This event is open to members and their guests. \nALL attendees MUST be over the age of 21. \nTickets are on sale until Tuesday\, August 9. We may have a limited number of tickets available after that date but there are no guarantees. Contact Seena directly (see organizer info below) if you miss the August 9 deadline. \nWe need and appreciate your help! Volunteers enjoy a discounted ticket and reserved table seating of their choice. \n\n\nA special note about the weather. As with any outdoor summer party\, there is a chance that rain or storms will interrupt our event. Guests are welcome to bring popup canopies in case of rain. If there are storms\, we will follow our standard policy of closing the facility until 30 minutes past the last sound of thunder. While there are no refunds for weather interruptions or cancellations\, we will do everything we can to reopen and have a great evening\, even if storms happen. We will also have “to go boxes” to take home your fill of food if need be. \nNote to the general membership. The picnic grounds\, grills\, playground\, and all picnic decks will close at 2 PM in order to set up for this event.
URL:https://www.holmesrunpool.org/event/midsummer-gala-2022/
LOCATION:Picnic Grounds
CATEGORIES:Special Event
ATTACH;FMTTYPE=image/jpeg:https://www.holmesrunpool.org/wp-content/uploads/2019/02/gala-title.jpg
ORGANIZER;CN="Seena Polivy":MAILTO:seenabeth@cox.net
END:VEVENT
END:VCALENDAR