BEGIN:VCALENDAR
VERSION:2.0
PRODID:-//Holmes Run Pool - ECPv6.5.1.4//NONSGML v1.0//EN
CALSCALE:GREGORIAN
METHOD:PUBLISH
X-ORIGINAL-URL:https://www.holmesrunpool.org
X-WR-CALDESC:Events for Holmes Run Pool
REFRESH-INTERVAL;VALUE=DURATION:PT1H
X-Robots-Tag:noindex
X-PUBLISHED-TTL:PT1H
BEGIN:VTIMEZONE
TZID:America/New_York
BEGIN:DAYLIGHT
TZOFFSETFROM:-0500
TZOFFSETTO:-0400
TZNAME:EDT
DTSTART:20230312T070000
END:DAYLIGHT
BEGIN:STANDARD
TZOFFSETFROM:-0400
TZOFFSETTO:-0500
TZNAME:EST
DTSTART:20231105T060000
END:STANDARD
END:VTIMEZONE
BEGIN:VEVENT
DTSTART;TZID=America/New_York:20230530T160000
DTEND;TZID=America/New_York:20230530T190000
DTSTAMP:20260425T121425
CREATED:20230301T060034Z
LAST-MODIFIED:20230608T185540Z
UID:10000131-1685462400-1685473200@www.holmesrunpool.org
SUMMARY:Swim Team Afternoon Practice Begins
DESCRIPTION:Hurricanes Swim Team practice will begin on Tuesday afternoon in the lower pool (4 lanes) and two lanes will be available in the lower pool for members to swim laps.
URL:https://www.holmesrunpool.org/event/swimteam-afternoon-practice/
LOCATION:Upper Pool
CATEGORIES:Swim Team
ATTACH;FMTTYPE=image/jpeg:https://www.holmesrunpool.org/wp-content/uploads/2019/03/swim-team-practice.jpg
END:VEVENT
END:VCALENDAR